BEGIN:VCALENDAR
VERSION:2.0
PRODID:-//hacksw/handcal//NONSGML v1.0//EN
CALSCALE:GREGORIAN
BEGIN:VEVENT
LOCATION:46 rue Nationale\, 83310 Cogolin
DESCRIPTION:https://www.golfe-saint-tropez-information.com/en/animation/entertainment-recreation/cogolin/large-format-floral-painting-workshop-7789700
DTSTART:20260619T000000Z
DTEND:20260619T000000Z
SUMMARY:Large-format floral painting workshop
URL;VALUE=URI:https://www.golfe-saint-tropez-information.com/en/animation/entertainment-recreation/cogolin/large-format-floral-painting-workshop-7789700
DTSTAMP:20260422T202244Z
UID:69e92e14794e8
END:VEVENT
END:VCALENDAR