BEGIN:VCALENDAR
VERSION:2.0
PRODID:-//hacksw/handcal//NONSGML v1.0//EN
CALSCALE:GREGORIAN
BEGIN:VEVENT
LOCATION:46 rue Nationale\, 83310 Cogolin
DESCRIPTION:https://www.golfe-saint-tropez-information.com/fr/animation/distractions-et-loisirs/cogolin/atelier-peinture-vegetale-7789634
DTSTART:20260605T000000Z
DTEND:20260605T000000Z
SUMMARY:Atelier peinture végétale
URL;VALUE=URI:https://www.golfe-saint-tropez-information.com/fr/animation/distractions-et-loisirs/cogolin/atelier-peinture-vegetale-7789634
DTSTAMP:20260422T190041Z
UID:69e91ad955449
END:VEVENT
END:VCALENDAR