BEGIN:VCALENDAR
VERSION:2.0
PRODID:-//hacksw/handcal//NONSGML v1.0//EN
CALSCALE:GREGORIAN
BEGIN:VEVENT
LOCATION:46 rue Nationale\, 83310 Cogolin
DESCRIPTION:https://www.golfe-saint-tropez-information.com/en/animation/entertainment-recreation/cogolin/plant-based-painting-workshop-7789634
DTSTART:20260605T000000Z
DTEND:20260605T000000Z
SUMMARY:Plant-based painting workshop
URL;VALUE=URI:https://www.golfe-saint-tropez-information.com/en/animation/entertainment-recreation/cogolin/plant-based-painting-workshop-7789634
DTSTAMP:20260422T202244Z
UID:69e92e145ef90
END:VEVENT
END:VCALENDAR