BEGIN:VCALENDAR
VERSION:2.0
PRODID:-//hacksw/handcal//NONSGML v1.0//EN
CALSCALE:GREGORIAN
BEGIN:VEVENT
LOCATION:46 rue Nationale\, 83310 Cogolin
DESCRIPTION:https://www.golfe-saint-tropez-information.com/fr/animation/distractions-et-loisirs/cogolin/atelier-vase-et-pique-fleurs-7789574
DTSTART:20260529T000000Z
DTEND:20260529T000000Z
SUMMARY:Atelier vase et pique fleurs
URL;VALUE=URI:https://www.golfe-saint-tropez-information.com/fr/animation/distractions-et-loisirs/cogolin/atelier-vase-et-pique-fleurs-7789574
DTSTAMP:20260422T173300Z
UID:69e9064c17db7
END:VEVENT
END:VCALENDAR