BEGIN:VCALENDAR
VERSION:2.0
PRODID:-//hacksw/handcal//NONSGML v1.0//EN
CALSCALE:GREGORIAN
BEGIN:VEVENT
LOCATION:46 rue Nationale\, 83310 Cogolin
DESCRIPTION:https://www.golfe-saint-tropez-information.com/en/animation/entertainment-recreation/cogolin/vase-and-flower-holder-workshop-7789574
DTSTART:20260529T000000Z
DTEND:20260529T000000Z
SUMMARY:Vase and flower holder workshop
URL;VALUE=URI:https://www.golfe-saint-tropez-information.com/en/animation/entertainment-recreation/cogolin/vase-and-flower-holder-workshop-7789574
DTSTAMP:20260422T185838Z
UID:69e91a5ecbd74
END:VEVENT
END:VCALENDAR