BEGIN:VCALENDAR
VERSION:2.0
PRODID:-//hacksw/handcal//NONSGML v1.0//EN
CALSCALE:GREGORIAN
BEGIN:VEVENT
LOCATION:Rampe des Sarrazins\, Place de la Mairie\, 83680 La Garde-Freinet
DESCRIPTION:https://www.golfe-saint-tropez-information.com/fr/animation/culture/la-garde-freinet/lecture-et-musique-propos-sur-la-peinture-du-moine-citrouille-amere-7789530
DTSTART:20260701T000000Z
DTEND:20260701T000000Z
SUMMARY:Lecture et musique " Propos sur la peinture du moine Citrouille-Amère"
URL;VALUE=URI:https://www.golfe-saint-tropez-information.com/fr/animation/culture/la-garde-freinet/lecture-et-musique-propos-sur-la-peinture-du-moine-citrouille-amere-7789530
DTSTAMP:20260425T202549Z
UID:69ed234d3669e
END:VEVENT
END:VCALENDAR