BEGIN:VCALENDAR
VERSION:2.0
PRODID:-//hacksw/handcal//NONSGML v1.0//EN
CALSCALE:GREGORIAN
BEGIN:VEVENT
LOCATION:Rampe des Sarrazins\, Place de la Mairie\, 83680 La Garde-Freinet
DESCRIPTION:https://www.golfe-saint-tropez-information.com/en/animation/cultural/la-garde-freinet/reading-and-music-propos-sur-la-peinture-du-moine-citrouille-amere-comments-on-the-painting-of-the-bitter-pumpkin-monk-7789530
DTSTART:20260701T000000Z
DTEND:20260701T000000Z
SUMMARY:Reading and music "Propos sur la peinture du moine Citrouille-Amère" (Comments on the painting of the Bitter Pumpkin Monk)
URL;VALUE=URI:https://www.golfe-saint-tropez-information.com/en/animation/cultural/la-garde-freinet/reading-and-music-propos-sur-la-peinture-du-moine-citrouille-amere-comments-on-the-painting-of-the-bitter-pumpkin-monk-7789530
DTSTAMP:20260425T215613Z
UID:69ed387da1f56
END:VEVENT
END:VCALENDAR