BEGIN:VCALENDAR
VERSION:2.0
PRODID:-//hacksw/handcal//NONSGML v1.0//EN
CALSCALE:GREGORIAN
BEGIN:VEVENT
LOCATION:Rampe des Sarrazins\, Place de la Mairie\, 83680 La Garde-Freinet
DESCRIPTION:https://www.golfe-saint-tropez-information.com/fr/animation/culture/la-garde-freinet/exposition-scenographiee-ballade-sur-deux-regards-marc-ingoglia-et-roseline-conil-7789337
DTSTART:20260710T000000Z
DTEND:20260726T000000Z
SUMMARY:Exposition scénographiée "Ballade sur deux regards" Marc INGOGLIA et Roseline CONIL
URL;VALUE=URI:https://www.golfe-saint-tropez-information.com/fr/animation/culture/la-garde-freinet/exposition-scenographiee-ballade-sur-deux-regards-marc-ingoglia-et-roseline-conil-7789337
DTSTAMP:20260421T144619Z
UID:69e78dbb62566
END:VEVENT
END:VCALENDAR