BEGIN:VCALENDAR
VERSION:2.0
PRODID:-//hacksw/handcal//NONSGML v1.0//EN
CALSCALE:GREGORIAN
BEGIN:VEVENT
LOCATION:Rampe des Sarrazins\, Place de la Mairie\, 83680 La Garde-Freinet
DESCRIPTION:https://www.golfe-saint-tropez-information.com/en/animation/cultural/la-garde-freinet/ballade-sur-deux-regards-scenographic-exhibition-marc-ingoglia-and-roseline-conil-7789337
DTSTART:20260710T000000Z
DTEND:20260726T000000Z
SUMMARY:Ballade sur deux regards" scenographic exhibition Marc INGOGLIA and Roseline CONIL
URL;VALUE=URI:https://www.golfe-saint-tropez-information.com/en/animation/cultural/la-garde-freinet/ballade-sur-deux-regards-scenographic-exhibition-marc-ingoglia-and-roseline-conil-7789337
DTSTAMP:20260421T130753Z
UID:69e776a992cbf
END:VEVENT
END:VCALENDAR