BEGIN:VCALENDAR
VERSION:2.0
PRODID:-//hacksw/handcal//NONSGML v1.0//EN
CALSCALE:GREGORIAN
BEGIN:VEVENT
LOCATION:Rampe des Sarrazins\, Place de la Mairie\, 83680 La Garde-Freinet
DESCRIPTION:https://www.golfe-saint-tropez-information.com/fr/animation/culture/la-garde-freinet/exposition-de-l-invisible-au-visible-de-joelle-eyraud-7789234
DTSTART:20260618T000000Z
DTEND:20260705T000000Z
SUMMARY:Exposition "De l'invisible au visible" de Joëlle EYRAUD
URL;VALUE=URI:https://www.golfe-saint-tropez-information.com/fr/animation/culture/la-garde-freinet/exposition-de-l-invisible-au-visible-de-joelle-eyraud-7789234
DTSTAMP:20260421T144822Z
UID:69e78e36b2be8
END:VEVENT
END:VCALENDAR