BEGIN:VCALENDAR
VERSION:2.0
PRODID:-//hacksw/handcal//NONSGML v1.0//EN
CALSCALE:GREGORIAN
BEGIN:VEVENT
LOCATION:Rampe des Sarrazins\, Place de la Mairie\, 83680 La Garde-Freinet
DESCRIPTION:https://www.golfe-saint-tropez-information.com/en/animation/cultural/la-garde-freinet/exhibition-from-the-invisible-to-the-visible-by-joelle-eyraud-7789234
DTSTART:20260618T000000Z
DTEND:20260705T000000Z
SUMMARY:Exhibition "From the invisible to the visible" by Joëlle EYRAUD
URL;VALUE=URI:https://www.golfe-saint-tropez-information.com/en/animation/cultural/la-garde-freinet/exhibition-from-the-invisible-to-the-visible-by-joelle-eyraud-7789234
DTSTAMP:20260421T130757Z
UID:69e776adcf3db
END:VEVENT
END:VCALENDAR