BEGIN:VCALENDAR
VERSION:2.0
PRODID:-//hacksw/handcal//NONSGML v1.0//EN
CALSCALE:GREGORIAN
BEGIN:VEVENT
LOCATION:Rampe des Sarrazins\, Place de la Mairie\, 83680 La Garde-Freinet
DESCRIPTION:https://www.golfe-saint-tropez-information.com/fr/animation/culture/la-garde-freinet/projection-opera-eugene-oneguine-de-tchaikovsky-7789227
DTSTART:20261031T000000Z
DTEND:20261031T000000Z
SUMMARY:Projection Opéra "Eugène Onéguine" de Tchaikovsky
URL;VALUE=URI:https://www.golfe-saint-tropez-information.com/fr/animation/culture/la-garde-freinet/projection-opera-eugene-oneguine-de-tchaikovsky-7789227
DTSTAMP:20260425T172146Z
UID:69ecf82a198d5
END:VEVENT
END:VCALENDAR