BEGIN:VCALENDAR
VERSION:2.0
PRODID:-//hacksw/handcal//NONSGML v1.0//EN
CALSCALE:GREGORIAN
BEGIN:VEVENT
LOCATION:Rampe des Sarrazins\, Place de la Mairie\, 83680 La Garde-Freinet
DESCRIPTION:https://www.golfe-saint-tropez-information.com/fr/animation/culture/la-garde-freinet/projection-opera-la-force-du-destin-de-verdi-7789219
DTSTART:20260926T000000Z
DTEND:20260926T000000Z
SUMMARY:Projection Opéra "La Force du destin" de Verdi
URL;VALUE=URI:https://www.golfe-saint-tropez-information.com/fr/animation/culture/la-garde-freinet/projection-opera-la-force-du-destin-de-verdi-7789219
DTSTAMP:20260421T144854Z
UID:69e78e564db3e
END:VEVENT
END:VCALENDAR