BEGIN:VCALENDAR
VERSION:2.0
PRODID:-//hacksw/handcal//NONSGML v1.0//EN
CALSCALE:GREGORIAN
BEGIN:VEVENT
LOCATION:Rampe des Sarrazins\, Place de la Mairie\, 83680 La Garde-Freinet
DESCRIPTION:https://www.golfe-saint-tropez-information.com/en/animation/cultural/la-garde-freinet/screening-of-verdi-s-la-force-du-destin-opera-7789219
DTSTART:20260926T000000Z
DTEND:20260926T000000Z
SUMMARY:Screening of Verdi's "La Force du Destin" opera
URL;VALUE=URI:https://www.golfe-saint-tropez-information.com/en/animation/cultural/la-garde-freinet/screening-of-verdi-s-la-force-du-destin-opera-7789219
DTSTAMP:20260421T130901Z
UID:69e776ed44e40
END:VEVENT
END:VCALENDAR