BEGIN:VCALENDAR
VERSION:2.0
PRODID:-//hacksw/handcal//NONSGML v1.0//EN
CALSCALE:GREGORIAN
BEGIN:VEVENT
LOCATION:Rampe des Sarrazins\, Place de la Mairie\, 83680 La Garde-Freinet
DESCRIPTION:https://www.golfe-saint-tropez-information.com/fr/animation/culture/la-garde-freinet/projection-opera-orphee-aux-enfers-gluck-7789210
DTSTART:20260627T000000Z
DTEND:20260627T000000Z
SUMMARY:Projection Opéra "Orphée aux enfers" GLUCK
URL;VALUE=URI:https://www.golfe-saint-tropez-information.com/fr/animation/culture/la-garde-freinet/projection-opera-orphee-aux-enfers-gluck-7789210
DTSTAMP:20260421T144619Z
UID:69e78dbb1ece3
END:VEVENT
END:VCALENDAR