BEGIN:VCALENDAR
VERSION:2.0
PRODID:-//hacksw/handcal//NONSGML v1.0//EN
CALSCALE:GREGORIAN
BEGIN:VEVENT
LOCATION:44  rue Marceau\, Cogolin
DESCRIPTION:https://www.golfe-saint-tropez-information.com/fr/animation/culture/cogolin/exposition-jules-verne-le-visionnaire-7788967
DTSTART:20260824T000000Z
DTEND:20261121T000000Z
SUMMARY:Exposition "Jules Verne\, le visionnaire"
URL;VALUE=URI:https://www.golfe-saint-tropez-information.com/fr/animation/culture/cogolin/exposition-jules-verne-le-visionnaire-7788967
DTSTAMP:20260421T144630Z
UID:69e78dc60f21e
END:VEVENT
END:VCALENDAR