BEGIN:VCALENDAR
VERSION:2.0
PRODID:-//hacksw/handcal//NONSGML v1.0//EN
CALSCALE:GREGORIAN
BEGIN:VEVENT
LOCATION:44  rue Marceau\, Cogolin
DESCRIPTION:https://www.golfe-saint-tropez-information.com/en/animation/cultural/cogolin/jules-verne-the-visionary-exhibition-7788967
DTSTART:20260824T000000Z
DTEND:20261121T000000Z
SUMMARY:Jules Verne\, the visionary" exhibition
URL;VALUE=URI:https://www.golfe-saint-tropez-information.com/en/animation/cultural/cogolin/jules-verne-the-visionary-exhibition-7788967
DTSTAMP:20260421T130752Z
UID:69e776a822f86
END:VEVENT
END:VCALENDAR