BEGIN:VCALENDAR
VERSION:2.0
PRODID:-//hacksw/handcal//NONSGML v1.0//EN
CALSCALE:GREGORIAN
BEGIN:VEVENT
LOCATION:44  rue Marceau\, Cogolin
DESCRIPTION:https://www.golfe-saint-tropez-information.com/fr/animation/culture/cogolin/exposition-fabuleux-insectes-et-fleurs-de-la-region-paca-7788953
DTSTART:20260615T000000Z
DTEND:20260814T000000Z
SUMMARY:Exposition "Fabuleux insectes et fleurs de la région Paca"
URL;VALUE=URI:https://www.golfe-saint-tropez-information.com/fr/animation/culture/cogolin/exposition-fabuleux-insectes-et-fleurs-de-la-region-paca-7788953
DTSTAMP:20260421T144822Z
UID:69e78e36575c2
END:VEVENT
END:VCALENDAR