BEGIN:VCALENDAR
VERSION:2.0
PRODID:-//hacksw/handcal//NONSGML v1.0//EN
CALSCALE:GREGORIAN
BEGIN:VEVENT
LOCATION:44  rue Marceau\, Cogolin
DESCRIPTION:https://www.golfe-saint-tropez-information.com/en/animation/cultural/cogolin/fabulous-insects-and-flowers-of-the-provence-alpes-cote-d-azur-region-exhibition-7788953
DTSTART:20260615T000000Z
DTEND:20260814T000000Z
SUMMARY:Fabulous insects and flowers of the Provence-Alpes-Côte d'Azur region" exhibition
URL;VALUE=URI:https://www.golfe-saint-tropez-information.com/en/animation/cultural/cogolin/fabulous-insects-and-flowers-of-the-provence-alpes-cote-d-azur-region-exhibition-7788953
DTSTAMP:20260421T130902Z
UID:69e776ee67df8
END:VEVENT
END:VCALENDAR