BEGIN:VCALENDAR
VERSION:2.0
PRODID:-//hacksw/handcal//NONSGML v1.0//EN
CALSCALE:GREGORIAN
BEGIN:VEVENT
LOCATION:44  rue Marceau\, Cogolin
DESCRIPTION:https://www.golfe-saint-tropez-information.com/fr/animation/distractions-et-loisirs/cogolin/atelier-creatif-a-la-mediatheque-7788886
DTSTART:20260722T000000Z
DTEND:20260916T000000Z
SUMMARY:Atelier créatif à la médiathèque
URL;VALUE=URI:https://www.golfe-saint-tropez-information.com/fr/animation/distractions-et-loisirs/cogolin/atelier-creatif-a-la-mediatheque-7788886
DTSTAMP:20260422T230856Z
UID:69e955088871a
END:VEVENT
END:VCALENDAR