BEGIN:VCALENDAR
VERSION:2.0
PRODID:-//hacksw/handcal//NONSGML v1.0//EN
CALSCALE:GREGORIAN
BEGIN:VEVENT
LOCATION:44  rue Marceau\, Cogolin
DESCRIPTION:https://www.golfe-saint-tropez-information.com/en/animation/entertainment-recreation/cogolin/creative-workshop-at-the-media-library-7788886
DTSTART:20260722T000000Z
DTEND:20260916T000000Z
SUMMARY:Creative workshop at the media library
URL;VALUE=URI:https://www.golfe-saint-tropez-information.com/en/animation/entertainment-recreation/cogolin/creative-workshop-at-the-media-library-7788886
DTSTAMP:20260423T002050Z
UID:69e965e24a7d5
END:VEVENT
END:VCALENDAR