BEGIN:VCALENDAR
VERSION:2.0
PRODID:-//hacksw/handcal//NONSGML v1.0//EN
CALSCALE:GREGORIAN
BEGIN:VEVENT
LOCATION:Parc Marceau\, Cogolin
DESCRIPTION:https://www.golfe-saint-tropez-information.com/fr/animation/culture/cogolin/lire-au-parc-7788825
DTSTART:20260716T000000Z
DTEND:20260820T000000Z
SUMMARY:Lire au parc
URL;VALUE=URI:https://www.golfe-saint-tropez-information.com/fr/animation/culture/cogolin/lire-au-parc-7788825
DTSTAMP:20260425T171448Z
UID:69ecf6883b791
END:VEVENT
END:VCALENDAR