BEGIN:VCALENDAR
VERSION:2.0
PRODID:-//hacksw/handcal//NONSGML v1.0//EN
CALSCALE:GREGORIAN
BEGIN:VEVENT
LOCATION:Parc Marceau\, Cogolin
DESCRIPTION:https://www.golfe-saint-tropez-information.com/en/animation/cultural/cogolin/reading-in-the-park-7788825
DTSTART:20260716T000000Z
DTEND:20260820T000000Z
SUMMARY:Reading in the park
URL;VALUE=URI:https://www.golfe-saint-tropez-information.com/en/animation/cultural/cogolin/reading-in-the-park-7788825
DTSTAMP:20260425T185121Z
UID:69ed0d292f289
END:VEVENT
END:VCALENDAR