BEGIN:VCALENDAR
VERSION:2.0
PRODID:-//hacksw/handcal//NONSGML v1.0//EN
CALSCALE:GREGORIAN
BEGIN:VEVENT
LOCATION:Place Général de Gaulle\, 83350 Ramatuelle
DESCRIPTION:https://www.golfe-saint-tropez-information.com/fr/animation/culture/ramatuelle/one-man-show-gospel-avec-mister-blaiz-7787856
DTSTART:20260816T000000Z
DTEND:20260816T000000Z
SUMMARY:One man show Gospel avec Mister Blaiz
URL;VALUE=URI:https://www.golfe-saint-tropez-information.com/fr/animation/culture/ramatuelle/one-man-show-gospel-avec-mister-blaiz-7787856
DTSTAMP:20260423T002016Z
UID:69e965c0e880d
END:VEVENT
END:VCALENDAR