BEGIN:VCALENDAR
VERSION:2.0
PRODID:-//hacksw/handcal//NONSGML v1.0//EN
CALSCALE:GREGORIAN
BEGIN:VEVENT
LOCATION:Place Général de Gaulle\, 83350 Ramatuelle
DESCRIPTION:https://www.golfe-saint-tropez-information.com/en/animation/cultural/ramatuelle/one-man-show-gospel-with-mister-blaiz-7787856
DTSTART:20260816T000000Z
DTEND:20260816T000000Z
SUMMARY:One man show Gospel with Mister Blaiz
URL;VALUE=URI:https://www.golfe-saint-tropez-information.com/en/animation/cultural/ramatuelle/one-man-show-gospel-with-mister-blaiz-7787856
DTSTAMP:20260423T013545Z
UID:69e977710aaa2
END:VEVENT
END:VCALENDAR