BEGIN:VCALENDAR
VERSION:2.0
PRODID:-//hacksw/handcal//NONSGML v1.0//EN
CALSCALE:GREGORIAN
BEGIN:VEVENT
LOCATION:83120 Plan-de-la-Tour
DESCRIPTION:https://www.golfe-saint-tropez-information.com/fr/animation/manifestations-commerciales/plan-de-la-tour/fete-de-quartier-fete-de-prinstemps-7781977
DTSTART:20260516T000000Z
DTEND:20260517T000000Z
SUMMARY:Fête de Quartier -Fête de prinstemps
URL;VALUE=URI:https://www.golfe-saint-tropez-information.com/fr/animation/manifestations-commerciales/plan-de-la-tour/fete-de-quartier-fete-de-prinstemps-7781977
DTSTAMP:20260422T161626Z
UID:69e8f45a5a41c
END:VEVENT
END:VCALENDAR