BEGIN:VCALENDAR
VERSION:2.0
PRODID:-//hacksw/handcal//NONSGML v1.0//EN
CALSCALE:GREGORIAN
BEGIN:VEVENT
LOCATION:83350 Ramatuelle
DESCRIPTION:https://www.golfe-saint-tropez-information.com/fr/animation/distractions-et-loisirs/ramatuelle/magic-parade-a-ramatuelle-7781974
DTSTART:20260710T000000Z
DTEND:20260710T000000Z
SUMMARY:Magic parade à Ramatuelle
URL;VALUE=URI:https://www.golfe-saint-tropez-information.com/fr/animation/distractions-et-loisirs/ramatuelle/magic-parade-a-ramatuelle-7781974
DTSTAMP:20260422T202240Z
UID:69e92e1053317
END:VEVENT
END:VCALENDAR