BEGIN:VCALENDAR
VERSION:2.0
PRODID:-//hacksw/handcal//NONSGML v1.0//EN
CALSCALE:GREGORIAN
BEGIN:VEVENT
LOCATION:83350 Ramatuelle
DESCRIPTION:https://www.golfe-saint-tropez-information.com/en/animation/entertainment-recreation/ramatuelle/magic-parade-in-ramatuelle-7781974
DTSTART:20260710T000000Z
DTEND:20260710T000000Z
SUMMARY:Magic parade in Ramatuelle
URL;VALUE=URI:https://www.golfe-saint-tropez-information.com/en/animation/entertainment-recreation/ramatuelle/magic-parade-in-ramatuelle-7781974
DTSTAMP:20260422T214407Z
UID:69e941276fad0
END:VEVENT
END:VCALENDAR