BEGIN:VCALENDAR
VERSION:2.0
PRODID:-//hacksw/handcal//NONSGML v1.0//EN
CALSCALE:GREGORIAN
BEGIN:VEVENT
LOCATION:La Rocade\, 83350 Ramatuelle
DESCRIPTION:https://www.golfe-saint-tropez-information.com/en/animation/cultural/ramatuelle/festival-reconnexion-requin-chagrin-francois-and-the-atlas-mountains-7781767
DTSTART:20260717T000000Z
DTEND:20260717T000000Z
SUMMARY:Festival Reconnexion - Requin Chagrin + Frànçois and the Atlas mountains
URL;VALUE=URI:https://www.golfe-saint-tropez-information.com/en/animation/cultural/ramatuelle/festival-reconnexion-requin-chagrin-francois-and-the-atlas-mountains-7781767
DTSTAMP:20260422T230857Z
UID:69e9550930b2b
END:VEVENT
END:VCALENDAR