BEGIN:VCALENDAR
VERSION:2.0
PRODID:-//hacksw/handcal//NONSGML v1.0//EN
CALSCALE:GREGORIAN
BEGIN:VEVENT
LOCATION:La Rocade\, 83350 Ramatuelle
DESCRIPTION:https://www.golfe-saint-tropez-information.com/en/animation/cultural/ramatuelle/festival-reconnexion-papooz-plaisir-7781727
DTSTART:20260716T000000Z
DTEND:20260716T000000Z
SUMMARY:Festival Reconnexion - Papooz + Plaisir
URL;VALUE=URI:https://www.golfe-saint-tropez-information.com/en/animation/cultural/ramatuelle/festival-reconnexion-papooz-plaisir-7781727
DTSTAMP:20260422T230855Z
UID:69e955078ea15
END:VEVENT
END:VCALENDAR