BEGIN:VCALENDAR
VERSION:2.0
PRODID:-//hacksw/handcal//NONSGML v1.0//EN
CALSCALE:GREGORIAN
BEGIN:VEVENT
LOCATION:83350 Ramatuelle
DESCRIPTION:https://www.golfe-saint-tropez-information.com/fr/animation/culture/ramatuelle/l-escalet-by-reconnexion-cheri-cheri-heavychest-7780894
DTSTART:20260713T000000Z
DTEND:20260713T000000Z
SUMMARY:L’Escalet by Reconnexion : Chéri Chéri + Heavychest
URL;VALUE=URI:https://www.golfe-saint-tropez-information.com/fr/animation/culture/ramatuelle/l-escalet-by-reconnexion-cheri-cheri-heavychest-7780894
DTSTAMP:20260422T202245Z
UID:69e92e15aa02a
END:VEVENT
END:VCALENDAR