BEGIN:VCALENDAR
VERSION:2.0
PRODID:-//hacksw/handcal//NONSGML v1.0//EN
CALSCALE:GREGORIAN
BEGIN:VEVENT
LOCATION:83350 Ramatuelle
DESCRIPTION:https://www.golfe-saint-tropez-information.com/en/animation/cultural/ramatuelle/l-escalet-by-reconnexion-cheri-cheri-heavychest-7780894
DTSTART:20260713T000000Z
DTEND:20260713T000000Z
SUMMARY:L'Escalet by Reconnexion: Chéri Chéri + Heavychest
URL;VALUE=URI:https://www.golfe-saint-tropez-information.com/en/animation/cultural/ramatuelle/l-escalet-by-reconnexion-cheri-cheri-heavychest-7780894
DTSTAMP:20260422T215547Z
UID:69e943e39cf49
END:VEVENT
END:VCALENDAR