BEGIN:VCALENDAR
VERSION:2.0
PRODID:-//hacksw/handcal//NONSGML v1.0//EN
CALSCALE:GREGORIAN
BEGIN:VEVENT
LOCATION:83350 Ramatuelle
DESCRIPTION:https://www.golfe-saint-tropez-information.com/en/animation/entertainment-recreation/ramatuelle/in-the-footsteps-of-the-cap-taillat-customs-officers-hike-7780867
DTSTART:20260929T000000Z
DTEND:20260929T000000Z
SUMMARY:In the footsteps of the Cap Taillat customs officers" hike
URL;VALUE=URI:https://www.golfe-saint-tropez-information.com/en/animation/entertainment-recreation/ramatuelle/in-the-footsteps-of-the-cap-taillat-customs-officers-hike-7780867
DTSTAMP:20260421T130758Z
UID:69e776ae9dfb3
END:VEVENT
END:VCALENDAR