BEGIN:VCALENDAR
VERSION:2.0
PRODID:-//hacksw/handcal//NONSGML v1.0//EN
CALSCALE:GREGORIAN
BEGIN:VEVENT
LOCATION:83350 Ramatuelle
DESCRIPTION:https://www.golfe-saint-tropez-information.com/fr/animation/distractions-et-loisirs/ramatuelle/randonnee-sur-les-pas-des-douaniers-du-cap-taillat-7780795
DTSTART:20260512T000000Z
DTEND:20260529T000000Z
SUMMARY:Randonnée “Sur les pas des douaniers du Cap Taillat”
URL;VALUE=URI:https://www.golfe-saint-tropez-information.com/fr/animation/distractions-et-loisirs/ramatuelle/randonnee-sur-les-pas-des-douaniers-du-cap-taillat-7780795
DTSTAMP:20260425T172147Z
UID:69ecf82bb7a8f
END:VEVENT
END:VCALENDAR