BEGIN:VCALENDAR
VERSION:2.0
PRODID:-//hacksw/handcal//NONSGML v1.0//EN
CALSCALE:GREGORIAN
BEGIN:VEVENT
LOCATION:83240 Cavalaire-sur-Mer
DESCRIPTION:https://www.golfe-saint-tropez-information.com/en/animation/entertainment-recreation/cavalaire-sur-mer/amy-the-lioness-concert-tribute-d-amy-winehouse-7780491
DTSTART:20260818T000000Z
DTEND:20260818T000000Z
SUMMARY:AMY THE LIONESS - concert tribute d'Amy Winehouse
URL;VALUE=URI:https://www.golfe-saint-tropez-information.com/en/animation/entertainment-recreation/cavalaire-sur-mer/amy-the-lioness-concert-tribute-d-amy-winehouse-7780491
DTSTAMP:20260423T025131Z
UID:69e9893357fde
END:VEVENT
END:VCALENDAR