BEGIN:VCALENDAR
VERSION:2.0
PRODID:-//hacksw/handcal//NONSGML v1.0//EN
CALSCALE:GREGORIAN
BEGIN:VEVENT
LOCATION:Rampe des Sarrazins\, Place de la Mairie\, 83680 La Garde-Freinet
DESCRIPTION:https://www.golfe-saint-tropez-information.com/fr/animation/culture/la-garde-freinet/danse-contemporaine-7780427
DTSTART:20260604T000000Z
DTEND:20260604T000000Z
SUMMARY:Danse contemporaine
URL;VALUE=URI:https://www.golfe-saint-tropez-information.com/fr/animation/culture/la-garde-freinet/danse-contemporaine-7780427
DTSTAMP:20260421T144745Z
UID:69e78e11e8d6f
END:VEVENT
END:VCALENDAR