BEGIN:VCALENDAR
VERSION:2.0
PRODID:-//hacksw/handcal//NONSGML v1.0//EN
CALSCALE:GREGORIAN
BEGIN:VEVENT
LOCATION:Rampe des Sarrazins\, Place de la Mairie\, 83680 La Garde-Freinet
DESCRIPTION:https://www.golfe-saint-tropez-information.com/en/animation/cultural/la-garde-freinet/contemporary-dance-7780427
DTSTART:20260604T000000Z
DTEND:20260604T000000Z
SUMMARY:Contemporary dance
URL;VALUE=URI:https://www.golfe-saint-tropez-information.com/en/animation/cultural/la-garde-freinet/contemporary-dance-7780427
DTSTAMP:20260421T130759Z
UID:69e776af1bdef
END:VEVENT
END:VCALENDAR