BEGIN:VCALENDAR
VERSION:2.0
PRODID:-//hacksw/handcal//NONSGML v1.0//EN
CALSCALE:GREGORIAN
BEGIN:VEVENT
LOCATION:Rampe des Sarrazins\, Place de la Mairie\, 83680 La Garde-Freinet
DESCRIPTION:https://www.golfe-saint-tropez-information.com/en/animation/cultural/la-garde-freinet/cine-debat-les-nouveaux-sauvages-7780405
DTSTART:20260610T000000Z
DTEND:20260610T000000Z
SUMMARY:Ciné-Débat "Les nouveaux sauvages"
URL;VALUE=URI:https://www.golfe-saint-tropez-information.com/en/animation/cultural/la-garde-freinet/cine-debat-les-nouveaux-sauvages-7780405
DTSTAMP:20260422T202243Z
UID:69e92e137bb6d
END:VEVENT
END:VCALENDAR