BEGIN:VCALENDAR
VERSION:2.0
PRODID:-//hacksw/handcal//NONSGML v1.0//EN
CALSCALE:GREGORIAN
BEGIN:VEVENT
LOCATION:Esplanade Ste Estelle\, 83240 Cavalaire-sur-Mer
DESCRIPTION:https://www.golfe-saint-tropez-information.com/en/animation/entertainment-recreation/cavalaire-sur-mer/midnight-ramblers-concert-tribute-the-rolling-stones-7780394
DTSTART:20260806T000000Z
DTEND:20260806T000000Z
SUMMARY:MIDNIGHT RAMBLERS - concert tribute "The Rolling Stones"
URL;VALUE=URI:https://www.golfe-saint-tropez-information.com/en/animation/entertainment-recreation/cavalaire-sur-mer/midnight-ramblers-concert-tribute-the-rolling-stones-7780394
DTSTAMP:20260423T002018Z
UID:69e965c237114
END:VEVENT
END:VCALENDAR