BEGIN:VCALENDAR
VERSION:2.0
PRODID:-//hacksw/handcal//NONSGML v1.0//EN
CALSCALE:GREGORIAN
BEGIN:VEVENT
LOCATION:Esplanade Ste Estelle\, 83240 Cavalaire-sur-Mer
DESCRIPTION:https://www.golfe-saint-tropez-information.com/fr/animation/distractions-et-loisirs/cavalaire-sur-mer/yesterday-concert-tribute-the-beatles-7780377
DTSTART:20260805T000000Z
DTEND:20260805T000000Z
SUMMARY:YESTERDAY - concert tribute "The Beatles"
URL;VALUE=URI:https://www.golfe-saint-tropez-information.com/fr/animation/distractions-et-loisirs/cavalaire-sur-mer/yesterday-concert-tribute-the-beatles-7780377
DTSTAMP:20260422T230849Z
UID:69e95501b8ea5
END:VEVENT
END:VCALENDAR