BEGIN:VCALENDAR
VERSION:2.0
PRODID:-//hacksw/handcal//NONSGML v1.0//EN
CALSCALE:GREGORIAN
BEGIN:VEVENT
LOCATION:Esplanade Ste Estelle\, 83240 Cavalaire-sur-Mer
DESCRIPTION:https://www.golfe-saint-tropez-information.com/en/animation/entertainment-recreation/cavalaire-sur-mer/johnny-vegas-concert-tribute-de-johnny-hallyday-7780367
DTSTART:20260730T000000Z
DTEND:20260730T000000Z
SUMMARY:JOHNNY VEGAS - concert tribute de Johnny Hallyday
URL;VALUE=URI:https://www.golfe-saint-tropez-information.com/en/animation/entertainment-recreation/cavalaire-sur-mer/johnny-vegas-concert-tribute-de-johnny-hallyday-7780367
DTSTAMP:20260425T185123Z
UID:69ed0d2b669f9
END:VEVENT
END:VCALENDAR