BEGIN:VCALENDAR
VERSION:2.0
PRODID:-//hacksw/handcal//NONSGML v1.0//EN
CALSCALE:GREGORIAN
BEGIN:VEVENT
LOCATION:83240 Cavalaire-sur-Mer
DESCRIPTION:https://www.golfe-saint-tropez-information.com/en/animation/entertainment-recreation/cavalaire-sur-mer/ze-funky-family-concert-funk-7780324
DTSTART:20260728T000000Z
DTEND:20260728T000000Z
SUMMARY:ZE FUNKY FAMILY - concert funk
URL;VALUE=URI:https://www.golfe-saint-tropez-information.com/en/animation/entertainment-recreation/cavalaire-sur-mer/ze-funky-family-concert-funk-7780324
DTSTAMP:20260423T002816Z
UID:69e967a07ac67
END:VEVENT
END:VCALENDAR