BEGIN:VCALENDAR
VERSION:2.0
PRODID:-//hacksw/handcal//NONSGML v1.0//EN
CALSCALE:GREGORIAN
BEGIN:VEVENT
LOCATION:83240 Cavalaire-sur-Mer
DESCRIPTION:https://www.golfe-saint-tropez-information.com/en/animation/entertainment-recreation/cavalaire-sur-mer/my-roots-concert-blues-rock-7780300
DTSTART:20260722T000000Z
DTEND:20260722T000000Z
SUMMARY:MY ROOTS - concert blues rock
URL;VALUE=URI:https://www.golfe-saint-tropez-information.com/en/animation/entertainment-recreation/cavalaire-sur-mer/my-roots-concert-blues-rock-7780300
DTSTAMP:20260423T002051Z
UID:69e965e35217f
END:VEVENT
END:VCALENDAR