BEGIN:VCALENDAR
VERSION:2.0
PRODID:-//hacksw/handcal//NONSGML v1.0//EN
CALSCALE:GREGORIAN
BEGIN:VEVENT
LOCATION:83240 Cavalaire-sur-Mer
DESCRIPTION:https://www.golfe-saint-tropez-information.com/en/animation/entertainment-recreation/cavalaire-sur-mer/la-chasse-au-tresor-d-olaf-spectacle-musical-pour-enfants-7780266
DTSTART:20260715T000000Z
DTEND:20260715T000000Z
SUMMARY:LA CHASSE AU TRESOR D'OLAF - spectacle musical pour enfants
URL;VALUE=URI:https://www.golfe-saint-tropez-information.com/en/animation/entertainment-recreation/cavalaire-sur-mer/la-chasse-au-tresor-d-olaf-spectacle-musical-pour-enfants-7780266
DTSTAMP:20260422T215038Z
UID:69e942ae8f1e5
END:VEVENT
END:VCALENDAR