BEGIN:VCALENDAR
VERSION:2.0
PRODID:-//hacksw/handcal//NONSGML v1.0//EN
CALSCALE:GREGORIAN
BEGIN:VEVENT
LOCATION:83240 Cavalaire-sur-Mer
DESCRIPTION:https://www.golfe-saint-tropez-information.com/en/animation/entertainment-recreation/cavalaire-sur-mer/100-diva-by-mage-concert-reprises-chansons-100-feminine-7780245
DTSTART:20260709T000000Z
DTEND:20260709T000000Z
SUMMARY:100% DIVA BY MAGE - concert reprises chansons 100% féminine
URL;VALUE=URI:https://www.golfe-saint-tropez-information.com/en/animation/entertainment-recreation/cavalaire-sur-mer/100-diva-by-mage-concert-reprises-chansons-100-feminine-7780245
DTSTAMP:20260422T215009Z
UID:69e9429112217
END:VEVENT
END:VCALENDAR