BEGIN:VCALENDAR
VERSION:2.0
PRODID:-//hacksw/handcal//NONSGML v1.0//EN
CALSCALE:GREGORIAN
BEGIN:VEVENT
LOCATION:2444 Chemin de la Bastide Blanche Sud\, .\, 83350 Ramatuelle
DESCRIPTION:https://www.golfe-saint-tropez-information.com/fr/animation/distractions-et-loisirs/ramatuelle/fete-du-printemps-au-domaine-la-tourraque-7779812
DTSTART:20260509T000000Z
DTEND:20260509T000000Z
SUMMARY:Fête du Printemps au Domaine La Tourraque
URL;VALUE=URI:https://www.golfe-saint-tropez-information.com/fr/animation/distractions-et-loisirs/ramatuelle/fete-du-printemps-au-domaine-la-tourraque-7779812
DTSTAMP:20260425T155843Z
UID:69ece4b3bbee0
END:VEVENT
END:VCALENDAR