BEGIN:VCALENDAR
VERSION:2.0
PRODID:-//hacksw/handcal//NONSGML v1.0//EN
CALSCALE:GREGORIAN
BEGIN:VEVENT
LOCATION:2444 Chemin de la Bastide Blanche Sud\, .\, 83350 Ramatuelle
DESCRIPTION:https://www.golfe-saint-tropez-information.com/en/animation/entertainment-recreation/ramatuelle/spring-festival-at-domaine-la-tourraque-7779812
DTSTART:20260509T000000Z
DTEND:20260509T000000Z
SUMMARY:Spring Festival at Domaine La Tourraque
URL;VALUE=URI:https://www.golfe-saint-tropez-information.com/en/animation/entertainment-recreation/ramatuelle/spring-festival-at-domaine-la-tourraque-7779812
DTSTAMP:20260425T172227Z
UID:69ecf8538ad15
END:VEVENT
END:VCALENDAR