BEGIN:VCALENDAR
VERSION:2.0
PRODID:-//hacksw/handcal//NONSGML v1.0//EN
CALSCALE:GREGORIAN
BEGIN:VEVENT
LOCATION:Rampe des Sarrazins\, Place de la Mairie\, 83680 La Garde-Freinet
DESCRIPTION:https://www.golfe-saint-tropez-information.com/fr/animation/culture/la-garde-freinet/concert-talis-qualis-7779565
DTSTART:20260424T000000Z
DTEND:20260424T000000Z
SUMMARY:Concert "Talis Qualis"
URL;VALUE=URI:https://www.golfe-saint-tropez-information.com/fr/animation/culture/la-garde-freinet/concert-talis-qualis-7779565
DTSTAMP:20260422T132439Z
UID:69e8cc17e8168
END:VEVENT
END:VCALENDAR