BEGIN:VCALENDAR
VERSION:2.0
PRODID:-//hacksw/handcal//NONSGML v1.0//EN
CALSCALE:GREGORIAN
BEGIN:VEVENT
LOCATION:Rampe des Sarrazins\, Place de la Mairie\, 83680 La Garde-Freinet
DESCRIPTION:https://www.golfe-saint-tropez-information.com/fr/animation/culture/la-garde-freinet/lecture-et-musique-sur-l-eau-7779488
DTSTART:20260612T000000Z
DTEND:20260612T000000Z
SUMMARY:Lecture et musique "Sur l'eau"
URL;VALUE=URI:https://www.golfe-saint-tropez-information.com/fr/animation/culture/la-garde-freinet/lecture-et-musique-sur-l-eau-7779488
DTSTAMP:20260425T184906Z
UID:69ed0ca24c4cc
END:VEVENT
END:VCALENDAR