BEGIN:VCALENDAR
VERSION:2.0
PRODID:-//hacksw/handcal//NONSGML v1.0//EN
CALSCALE:GREGORIAN
BEGIN:VEVENT
LOCATION:Rampe des Sarrazins\, Place de la Mairie\, 83680 La Garde-Freinet
DESCRIPTION:https://www.golfe-saint-tropez-information.com/en/animation/cultural/la-garde-freinet/reading-and-music-on-the-water-7779488
DTSTART:20260612T000000Z
DTEND:20260612T000000Z
SUMMARY:Reading and music "On the water
URL;VALUE=URI:https://www.golfe-saint-tropez-information.com/en/animation/cultural/la-garde-freinet/reading-and-music-on-the-water-7779488
DTSTAMP:20260425T202622Z
UID:69ed236e353bc
END:VEVENT
END:VCALENDAR